BEGIN:VCALENDAR
VERSION:2.0
PRODID:-//nö theater - ECPv6.15.12.2//NONSGML v1.0//EN
CALSCALE:GREGORIAN
METHOD:PUBLISH
X-WR-CALNAME:nö theater
X-ORIGINAL-URL:https://noetheater.de
X-WR-CALDESC:Veranstaltungen für nö theater
REFRESH-INTERVAL;VALUE=DURATION:PT1H
X-Robots-Tag:noindex
X-PUBLISHED-TTL:PT1H
BEGIN:VTIMEZONE
TZID:Europe/Paris
BEGIN:DAYLIGHT
TZOFFSETFROM:+0100
TZOFFSETTO:+0200
TZNAME:CEST
DTSTART:20250330T010000
END:DAYLIGHT
BEGIN:STANDARD
TZOFFSETFROM:+0200
TZOFFSETTO:+0100
TZNAME:CET
DTSTART:20251026T010000
END:STANDARD
BEGIN:DAYLIGHT
TZOFFSETFROM:+0100
TZOFFSETTO:+0200
TZNAME:CEST
DTSTART:20260329T010000
END:DAYLIGHT
BEGIN:STANDARD
TZOFFSETFROM:+0200
TZOFFSETTO:+0100
TZNAME:CET
DTSTART:20261025T010000
END:STANDARD
BEGIN:DAYLIGHT
TZOFFSETFROM:+0100
TZOFFSETTO:+0200
TZNAME:CEST
DTSTART:20270328T010000
END:DAYLIGHT
BEGIN:STANDARD
TZOFFSETFROM:+0200
TZOFFSETTO:+0100
TZNAME:CET
DTSTART:20271031T010000
END:STANDARD
END:VTIMEZONE
BEGIN:VEVENT
DTSTART;TZID=Europe/Paris:20260424T203000
DTEND;TZID=Europe/Paris:20260424T230000
DTSTAMP:20260419T151537
CREATED:20251213T120900Z
LAST-MODIFIED:20251213T122554Z
UID:2194-1777062600-1777071600@noetheater.de
SUMMARY:Monopoly / Whipped Cream (Double Feature)
DESCRIPTION:Das Klüngelpütz-Theater wird 25\, wenn das kein Grund zum Feiern ist! \nAn sechs Tagen in dieser Geburtstagswoche gibt es jeden Abend ein Double-Feature-Programm. Ein Abend\, zwei Produktionen. Anlässlich unserer Geburtstagswoche laden wir alle Gäste zum Begrüßungssekt ein. Im klassischen Spiel um Macht und Geld gibt es bei Monopoly so manche Überraschung zu entdecken und wie unsere beiden Dragqueens in der Bar Chérie miteinander auskommen\, ist nicht weniger explosiv.
URL:https://noetheater.de/event/monopoly-analyse-kritik-ein-kinderspiel-whipped-cream-in-der-bar-cherie-double-feature/
LOCATION:Kabarett-Theater Klüngelpütz\, Gertrudenstr. 24\, 50667 Köln\, Germany
CATEGORIES:Kabarett-Theater Klüngelpütz
ATTACH;FMTTYPE=image/jpeg:https://noetheater.de/wp-content/uploads/2025/12/kluepue-theater.jpg
ORGANIZER;CN="Kabarett Kl%C3%BCngelp%C3%BCtz":MAILTO:info@kluengelpuetz.de
END:VEVENT
BEGIN:VEVENT
DTSTART;TZID=Europe/Paris:20260507T193000
DTEND;TZID=Europe/Paris:20260507T210000
DTSTAMP:20260419T151537
CREATED:20260326T060628Z
LAST-MODIFIED:20260326T060628Z
UID:2262-1778182200-1778187600@noetheater.de
SUMMARY:Geschichten aus der 2. Klasse - Ein Stück über die Deutsche Bahn
DESCRIPTION:Woran denken Sie\, wenn Sie an die Bahn denken? An überfüllte Regionalzüge\, massiv verspätete ICEs und völlig überzogene Manager:innengehälter? Oder an stillgelegte Gleise und Bahnhöfe\, alberne Image Kampagnen und stetig steigende Ticketpreise? Oder an Ihren geliebten PKW? „Es gibt wirklich viele Dinge\, die sie wissen sollten\, bevor Sie das nächste Mal einen Zug besteigen“. So die Journalist:innen Astrid Randerath und Christian Esser in der Einleitung ihres „Schwarzbuch Deutsche Bahn“ von 2010. Schon damals stellte sich die Frage\, ob wir\, die sogenannten Bahnkund:innen\, das alles auch wissen wollen. Denn was da anscheinend an Missmanagement\, Korruption\, Missachtung des Datenschutzes und Menschenverachtung praktiziert wurde und wird\, ist in seiner schieren Perfidie kaum auszuhalten. Und vom konkreten Zustand der einzelnen Züge wollen wir gar nicht erst anfangen. Oder doch? Das nö theater begibt sich auf eine gleißende Entdeckungsreise quer durch die Republik und findet Antworten auf Fragen\, die Sie eventuell nie stellen wollten: Wie sieht es aus mit der eigentlich durch die Bahn garantierten günstigen und zuverlässigen Mobilität? Wie oft werden ICE-Räder auf Materialverschleiß kontrolliert? Ist Law and Order wirklich die Lösung für die steigende Gewalt im Regionalverkehr? Warum kann mensch an Bahnhöfen zuverlässiger shoppen als mit dem Zug fahren? Wie war das mit dem Zug der Erinnerung\, dem die vollen Kosten seiner Fahrten in Rechnung gestellt wurden? Ist Bahnchef kein deutscher Vorname mehr? Wohin verschwinden eigentlich immer die verspäteten Züge\, die dann plötzlich ganz ausfallen? Und wann wird Stuttgart 21 fertig? Ne\, Scherz 🙂 Dies und ach noch so vieles mehr fragen wir uns und wollen es zumindest im Ansatz verstehen. Bevor wir das nächste Mal einen Zug besteigen.
URL:https://noetheater.de/event/geschichten-aus-der-2-klasse-ein-stueck-ueber-die-deutsche-bahn/
LOCATION:COMEDIA\, Vondelstraße 4- 8\, Köln\, NRW\, 50677\, Germany
ATTACH;FMTTYPE=image/jpeg:https://noetheater.de/wp-content/uploads/2026/03/BahnInternetseite-scaled-e1774505165933.jpeg
END:VEVENT
BEGIN:VEVENT
DTSTART;TZID=Europe/Paris:20260508T193000
DTEND;TZID=Europe/Paris:20260508T210000
DTSTAMP:20260419T151537
CREATED:20260326T060937Z
LAST-MODIFIED:20260326T060937Z
UID:2265-1778268600-1778274000@noetheater.de
SUMMARY:Geschichten aus der 2. Klasse - Ein Stück über die Deutsche Bahn
DESCRIPTION:Woran denken Sie\, wenn Sie an die Bahn denken? An überfüllte Regionalzüge\, massiv verspätete ICEs und völlig überzogene Manager:innengehälter? Oder an stillgelegte Gleise und Bahnhöfe\, alberne Image Kampagnen und stetig steigende Ticketpreise? Oder an Ihren geliebten PKW? „Es gibt wirklich viele Dinge\, die sie wissen sollten\, bevor Sie das nächste Mal einen Zug besteigen“. So die Journalist:innen Astrid Randerath und Christian Esser in der Einleitung ihres „Schwarzbuch Deutsche Bahn“ von 2010. Schon damals stellte sich die Frage\, ob wir\, die sogenannten Bahnkund:innen\, das alles auch wissen wollen. Denn was da anscheinend an Missmanagement\, Korruption\, Missachtung des Datenschutzes und Menschenverachtung praktiziert wurde und wird\, ist in seiner schieren Perfidie kaum auszuhalten. Und vom konkreten Zustand der einzelnen Züge wollen wir gar nicht erst anfangen. Oder doch? Das nö theater begibt sich auf eine gleißende Entdeckungsreise quer durch die Republik und findet Antworten auf Fragen\, die Sie eventuell nie stellen wollten: Wie sieht es aus mit der eigentlich durch die Bahn garantierten günstigen und zuverlässigen Mobilität? Wie oft werden ICE-Räder auf Materialverschleiß kontrolliert? Ist Law and Order wirklich die Lösung für die steigende Gewalt im Regionalverkehr? Warum kann mensch an Bahnhöfen zuverlässiger shoppen als mit dem Zug fahren? Wie war das mit dem Zug der Erinnerung\, dem die vollen Kosten seiner Fahrten in Rechnung gestellt wurden? Ist Bahnchef kein deutscher Vorname mehr? Wohin verschwinden eigentlich immer die verspäteten Züge\, die dann plötzlich ganz ausfallen? Und wann wird Stuttgart 21 fertig? Ne\, Scherz 🙂 Dies und ach noch so vieles mehr fragen wir uns und wollen es zumindest im Ansatz verstehen. Bevor wir das nächste Mal einen Zug besteigen.
URL:https://noetheater.de/event/geschichten-aus-der-2-klasse-ein-stueck-ueber-die-deutsche-bahn-2/
LOCATION:COMEDIA\, Vondelstraße 4- 8\, Köln\, NRW\, 50677\, Germany
ATTACH;FMTTYPE=image/jpeg:https://noetheater.de/wp-content/uploads/2026/03/BahnInternetseite-scaled-e1774505165933.jpeg
END:VEVENT
BEGIN:VEVENT
DTSTART;TZID=Europe/Paris:20260509T193000
DTEND;TZID=Europe/Paris:20260509T210000
DTSTAMP:20260419T151537
CREATED:20260326T061054Z
LAST-MODIFIED:20260326T061054Z
UID:2267-1778355000-1778360400@noetheater.de
SUMMARY:Geschichten aus der 2. Klasse - Ein Stück über die Deutsche Bahn
DESCRIPTION:Woran denken Sie\, wenn Sie an die Bahn denken? An überfüllte Regionalzüge\, massiv verspätete ICEs und völlig überzogene Manager:innengehälter? Oder an stillgelegte Gleise und Bahnhöfe\, alberne Image Kampagnen und stetig steigende Ticketpreise? Oder an Ihren geliebten PKW? „Es gibt wirklich viele Dinge\, die sie wissen sollten\, bevor Sie das nächste Mal einen Zug besteigen“. So die Journalist:innen Astrid Randerath und Christian Esser in der Einleitung ihres „Schwarzbuch Deutsche Bahn“ von 2010. Schon damals stellte sich die Frage\, ob wir\, die sogenannten Bahnkund:innen\, das alles auch wissen wollen. Denn was da anscheinend an Missmanagement\, Korruption\, Missachtung des Datenschutzes und Menschenverachtung praktiziert wurde und wird\, ist in seiner schieren Perfidie kaum auszuhalten. Und vom konkreten Zustand der einzelnen Züge wollen wir gar nicht erst anfangen. Oder doch? Das nö theater begibt sich auf eine gleißende Entdeckungsreise quer durch die Republik und findet Antworten auf Fragen\, die Sie eventuell nie stellen wollten: Wie sieht es aus mit der eigentlich durch die Bahn garantierten günstigen und zuverlässigen Mobilität? Wie oft werden ICE-Räder auf Materialverschleiß kontrolliert? Ist Law and Order wirklich die Lösung für die steigende Gewalt im Regionalverkehr? Warum kann mensch an Bahnhöfen zuverlässiger shoppen als mit dem Zug fahren? Wie war das mit dem Zug der Erinnerung\, dem die vollen Kosten seiner Fahrten in Rechnung gestellt wurden? Ist Bahnchef kein deutscher Vorname mehr? Wohin verschwinden eigentlich immer die verspäteten Züge\, die dann plötzlich ganz ausfallen? Und wann wird Stuttgart 21 fertig? Ne\, Scherz 🙂 Dies und ach noch so vieles mehr fragen wir uns und wollen es zumindest im Ansatz verstehen. Bevor wir das nächste Mal einen Zug besteigen.
URL:https://noetheater.de/event/geschichten-aus-der-2-klasse-ein-stueck-ueber-die-deutsche-bahn-3/
LOCATION:COMEDIA\, Vondelstraße 4- 8\, Köln\, NRW\, 50677\, Germany
ATTACH;FMTTYPE=image/jpeg:https://noetheater.de/wp-content/uploads/2026/03/BahnInternetseite-scaled-e1774505165933.jpeg
END:VEVENT
BEGIN:VEVENT
DTSTART;TZID=Europe/Paris:20260510T183000
DTEND;TZID=Europe/Paris:20260510T200000
DTSTAMP:20260419T151537
CREATED:20260326T061220Z
LAST-MODIFIED:20260326T061220Z
UID:2269-1778437800-1778443200@noetheater.de
SUMMARY:Geschichten aus der 2. Klasse - Ein Stück über die Deutsche Bahn
DESCRIPTION:Woran denken Sie\, wenn Sie an die Bahn denken? An überfüllte Regionalzüge\, massiv verspätete ICEs und völlig überzogene Manager:innengehälter? Oder an stillgelegte Gleise und Bahnhöfe\, alberne Image Kampagnen und stetig steigende Ticketpreise? Oder an Ihren geliebten PKW? „Es gibt wirklich viele Dinge\, die sie wissen sollten\, bevor Sie das nächste Mal einen Zug besteigen“. So die Journalist:innen Astrid Randerath und Christian Esser in der Einleitung ihres „Schwarzbuch Deutsche Bahn“ von 2010. Schon damals stellte sich die Frage\, ob wir\, die sogenannten Bahnkund:innen\, das alles auch wissen wollen. Denn was da anscheinend an Missmanagement\, Korruption\, Missachtung des Datenschutzes und Menschenverachtung praktiziert wurde und wird\, ist in seiner schieren Perfidie kaum auszuhalten. Und vom konkreten Zustand der einzelnen Züge wollen wir gar nicht erst anfangen. Oder doch? Das nö theater begibt sich auf eine gleißende Entdeckungsreise quer durch die Republik und findet Antworten auf Fragen\, die Sie eventuell nie stellen wollten: Wie sieht es aus mit der eigentlich durch die Bahn garantierten günstigen und zuverlässigen Mobilität? Wie oft werden ICE-Räder auf Materialverschleiß kontrolliert? Ist Law and Order wirklich die Lösung für die steigende Gewalt im Regionalverkehr? Warum kann mensch an Bahnhöfen zuverlässiger shoppen als mit dem Zug fahren? Wie war das mit dem Zug der Erinnerung\, dem die vollen Kosten seiner Fahrten in Rechnung gestellt wurden? Ist Bahnchef kein deutscher Vorname mehr? Wohin verschwinden eigentlich immer die verspäteten Züge\, die dann plötzlich ganz ausfallen? Und wann wird Stuttgart 21 fertig? Ne\, Scherz 🙂 Dies und ach noch so vieles mehr fragen wir uns und wollen es zumindest im Ansatz verstehen. Bevor wir das nächste Mal einen Zug besteigen.
URL:https://noetheater.de/event/geschichten-aus-der-2-klasse-ein-stueck-ueber-die-deutsche-bahn-4/
LOCATION:COMEDIA\, Vondelstraße 4- 8\, Köln\, NRW\, 50677\, Germany
ATTACH;FMTTYPE=image/jpeg:https://noetheater.de/wp-content/uploads/2026/03/BahnInternetseite-scaled-e1774505165933.jpeg
END:VEVENT
BEGIN:VEVENT
DTSTART;TZID=Europe/Paris:20260625T193000
DTEND;TZID=Europe/Paris:20260625T210000
DTSTAMP:20260419T151537
CREATED:20251213T115014Z
LAST-MODIFIED:20251213T115014Z
UID:2185-1782415800-1782421200@noetheater.de
SUMMARY:Monopoly - Analyse & Kritik. Ein Kinderspiel.
DESCRIPTION:  \nWer kennt es nicht? Das wahrscheinlich erfolgreichste Gesellschaftsspiel aller Zeiten: Monopoly. Das Erfolgsrezept dieses Spiels ist denkbar einfach: Nicht bankrott gehen und die Mitspielenden in den finanziellen Ruin treiben. Vergnüglicher Raubtierkapitalismus für die ganze Familie eben. Umso verständlicher ist es\, dass fast jede Partie in einem grundlegenden Streit endet. Doch zum Glück handelt es sich ja nur um ein Spiel. Und doch war Monopoly ursprünglich nicht ganz anders gemeint?\nNach intensiver Recherche begibt sich das nö theater auf Los und zeichnet nicht nur die hundertjährige Geschichte von Monopoly nach\, sondern taucht auch tief ein in die Welt der Superreichen und in die Finanzskandale der letzten Jahre. Denn die berühmte Schere zwischen Arm und Reich scheint aktueller denn je. Um im Bild zu bleiben: Während einige wenige ihr Vermögen in der Schlossstraße horten\, kämpft der große Rest darum\, die Miete für die Badstraße zu stemmen.\nNach der Katastrophenrevue „Titanic – Analyse und Kritik“ widmet sich das nö theater erneut einem Phänomen der Popkultur. Zwischen Papiergeld\, Mietendeckel und der Hotelbar ist ein dokumentarischer Abend entstanden\, der sich ganz dem menschlichen Grundbedürfnis des Spielens verschreibt und Regeln als gutgemeinte Vorschläge versteht. \n  \n  \n  \n  \n 
URL:https://noetheater.de/event/monopoly-analyse-kritik-ein-kinderspiel-3/
LOCATION:Kabarett-Theater Klüngelpütz\, Gertrudenstr. 24\, 50667 Köln\, Germany
CATEGORIES:Kabarett-Theater Klüngelpütz
ATTACH;FMTTYPE=image/jpeg:https://noetheater.de/wp-content/uploads/2025/04/Monopoly2-scaled.jpeg
ORGANIZER;CN="Kabarett Kl%C3%BCngelp%C3%BCtz":MAILTO:info@kluengelpuetz.de
END:VEVENT
BEGIN:VEVENT
DTSTART;TZID=Europe/Paris:20260626T203000
DTEND;TZID=Europe/Paris:20260626T220000
DTSTAMP:20260419T151537
CREATED:20251213T115239Z
LAST-MODIFIED:20251213T115239Z
UID:2188-1782505800-1782511200@noetheater.de
SUMMARY:Monopoly - Analyse & Kritik. Ein Kinderspiel.
DESCRIPTION:  \nWer kennt es nicht? Das wahrscheinlich erfolgreichste Gesellschaftsspiel aller Zeiten: Monopoly. Das Erfolgsrezept dieses Spiels ist denkbar einfach: Nicht bankrott gehen und die Mitspielenden in den finanziellen Ruin treiben. Vergnüglicher Raubtierkapitalismus für die ganze Familie eben. Umso verständlicher ist es\, dass fast jede Partie in einem grundlegenden Streit endet. Doch zum Glück handelt es sich ja nur um ein Spiel. Und doch war Monopoly ursprünglich nicht ganz anders gemeint?\nNach intensiver Recherche begibt sich das nö theater auf Los und zeichnet nicht nur die hundertjährige Geschichte von Monopoly nach\, sondern taucht auch tief ein in die Welt der Superreichen und in die Finanzskandale der letzten Jahre. Denn die berühmte Schere zwischen Arm und Reich scheint aktueller denn je. Um im Bild zu bleiben: Während einige wenige ihr Vermögen in der Schlossstraße horten\, kämpft der große Rest darum\, die Miete für die Badstraße zu stemmen.\nNach der Katastrophenrevue „Titanic – Analyse und Kritik“ widmet sich das nö theater erneut einem Phänomen der Popkultur. Zwischen Papiergeld\, Mietendeckel und der Hotelbar ist ein dokumentarischer Abend entstanden\, der sich ganz dem menschlichen Grundbedürfnis des Spielens verschreibt und Regeln als gutgemeinte Vorschläge versteht. \n  \n  \n  \n  \n 
URL:https://noetheater.de/event/monopoly-analyse-kritik-ein-kinderspiel-4/
LOCATION:Kabarett-Theater Klüngelpütz\, Gertrudenstr. 24\, 50667 Köln\, Germany
CATEGORIES:Kabarett-Theater Klüngelpütz
ATTACH;FMTTYPE=image/jpeg:https://noetheater.de/wp-content/uploads/2025/04/Monopoly2-scaled.jpeg
ORGANIZER;CN="Kabarett Kl%C3%BCngelp%C3%BCtz":MAILTO:info@kluengelpuetz.de
END:VEVENT
BEGIN:VEVENT
DTSTART;TZID=Europe/Paris:20260627T203000
DTEND;TZID=Europe/Paris:20260627T220000
DTSTAMP:20260419T151537
CREATED:20251213T115354Z
LAST-MODIFIED:20251213T115354Z
UID:2190-1782592200-1782597600@noetheater.de
SUMMARY:Monopoly - Analyse & Kritik. Ein Kinderspiel.
DESCRIPTION:  \nWer kennt es nicht? Das wahrscheinlich erfolgreichste Gesellschaftsspiel aller Zeiten: Monopoly. Das Erfolgsrezept dieses Spiels ist denkbar einfach: Nicht bankrott gehen und die Mitspielenden in den finanziellen Ruin treiben. Vergnüglicher Raubtierkapitalismus für die ganze Familie eben. Umso verständlicher ist es\, dass fast jede Partie in einem grundlegenden Streit endet. Doch zum Glück handelt es sich ja nur um ein Spiel. Und doch war Monopoly ursprünglich nicht ganz anders gemeint?\nNach intensiver Recherche begibt sich das nö theater auf Los und zeichnet nicht nur die hundertjährige Geschichte von Monopoly nach\, sondern taucht auch tief ein in die Welt der Superreichen und in die Finanzskandale der letzten Jahre. Denn die berühmte Schere zwischen Arm und Reich scheint aktueller denn je. Um im Bild zu bleiben: Während einige wenige ihr Vermögen in der Schlossstraße horten\, kämpft der große Rest darum\, die Miete für die Badstraße zu stemmen.\nNach der Katastrophenrevue „Titanic – Analyse und Kritik“ widmet sich das nö theater erneut einem Phänomen der Popkultur. Zwischen Papiergeld\, Mietendeckel und der Hotelbar ist ein dokumentarischer Abend entstanden\, der sich ganz dem menschlichen Grundbedürfnis des Spielens verschreibt und Regeln als gutgemeinte Vorschläge versteht. \n  \n  \n  \n  \n 
URL:https://noetheater.de/event/monopoly-analyse-kritik-ein-kinderspiel-5/
LOCATION:Kabarett-Theater Klüngelpütz\, Gertrudenstr. 24\, 50667 Köln\, Germany
CATEGORIES:Kabarett-Theater Klüngelpütz
ATTACH;FMTTYPE=image/jpeg:https://noetheater.de/wp-content/uploads/2025/04/Monopoly2-scaled.jpeg
ORGANIZER;CN="Kabarett Kl%C3%BCngelp%C3%BCtz":MAILTO:info@kluengelpuetz.de
END:VEVENT
BEGIN:VEVENT
DTSTART;TZID=Europe/Paris:20260628T170000
DTEND;TZID=Europe/Paris:20260628T183000
DTSTAMP:20260419T151537
CREATED:20251213T115539Z
LAST-MODIFIED:20251213T115539Z
UID:2192-1782666000-1782671400@noetheater.de
SUMMARY:Monopoly - Analyse & Kritik. Ein Kinderspiel.
DESCRIPTION:  \nWer kennt es nicht? Das wahrscheinlich erfolgreichste Gesellschaftsspiel aller Zeiten: Monopoly. Das Erfolgsrezept dieses Spiels ist denkbar einfach: Nicht bankrott gehen und die Mitspielenden in den finanziellen Ruin treiben. Vergnüglicher Raubtierkapitalismus für die ganze Familie eben. Umso verständlicher ist es\, dass fast jede Partie in einem grundlegenden Streit endet. Doch zum Glück handelt es sich ja nur um ein Spiel. Und doch war Monopoly ursprünglich nicht ganz anders gemeint?\nNach intensiver Recherche begibt sich das nö theater auf Los und zeichnet nicht nur die hundertjährige Geschichte von Monopoly nach\, sondern taucht auch tief ein in die Welt der Superreichen und in die Finanzskandale der letzten Jahre. Denn die berühmte Schere zwischen Arm und Reich scheint aktueller denn je. Um im Bild zu bleiben: Während einige wenige ihr Vermögen in der Schlossstraße horten\, kämpft der große Rest darum\, die Miete für die Badstraße zu stemmen.\nNach der Katastrophenrevue „Titanic – Analyse und Kritik“ widmet sich das nö theater erneut einem Phänomen der Popkultur. Zwischen Papiergeld\, Mietendeckel und der Hotelbar ist ein dokumentarischer Abend entstanden\, der sich ganz dem menschlichen Grundbedürfnis des Spielens verschreibt und Regeln als gutgemeinte Vorschläge versteht. \n  \n  \n  \n  \n 
URL:https://noetheater.de/event/monopoly-analyse-kritik-ein-kinderspiel-6/
LOCATION:Kabarett-Theater Klüngelpütz\, Gertrudenstr. 24\, 50667 Köln\, Germany
CATEGORIES:Kabarett-Theater Klüngelpütz
ATTACH;FMTTYPE=image/jpeg:https://noetheater.de/wp-content/uploads/2025/04/Monopoly2-scaled.jpeg
ORGANIZER;CN="Kabarett Kl%C3%BCngelp%C3%BCtz":MAILTO:info@kluengelpuetz.de
END:VEVENT
BEGIN:VEVENT
DTSTART;TZID=Europe/Paris:20260921T200000
DTEND;TZID=Europe/Paris:20260921T213000
DTSTAMP:20260419T151537
CREATED:20260415T135558Z
LAST-MODIFIED:20260415T135558Z
UID:2278-1790020800-1790026200@noetheater.de
SUMMARY:35 TONNEN
DESCRIPTION:Ausgezeichnet mit dem Kölner Theaterpreis 2025\nAlle feiern. Die Polizei feiert tonnenschwere Rekordfunde. Das organisierte Verbrechen feiert Gewinne\, die das Bruttoinlandsprodukt ganzer Länder übertreffen. Und Deutschland feiert in den Clubs mit dem Stoff\, aus dem vermeintlich die Träume sind. \n\nVon den Chefetagen großer Konzerne über Fine-Dining-Restaurants bis in die Partyszene der jungen Leute – eins steht fest: Kokain boomt. Und hinterlässt eine Spur der Gewalt. Bombenanschläge und Entführungen mitten in Köln. Schießereien und Folter. Erpressung und Geldwäsche. Was sich wie der Plot eines Mafiafilms anhört\, passiert genau hier und jetzt. Doch wer zahlt den Preis für die Feier?\nDas nö theater entführt das Publikum in die verborgenen Strukturen des globalen Kokainhandels – von den Koka-Plantagen in Südamerika bis auf die Straßen von NRW.\nEin immersives Theaterstück.\n  \nEs spielen: Asta Nechajute\, Felix Höfner\, Lucia Schulz \nRegie: Asim Odobašić \nDramaturgie: Janosch Roloff \nLicht: Chiara Tess Krogull \nAssistenz: Julia Knorst & Anne K Müller
URL:https://noetheater.de/event/35-tonnen-9/
LOCATION:Orangerie Theater im Volksgarten\, Volksgartenstraße 25\, Köln\, 50677\, Germany
CATEGORIES:Orangerie Theater
ATTACH;FMTTYPE=image/jpeg:https://noetheater.de/wp-content/uploads/2024/09/IMG_2186-bearbeitet-scaled.jpg
END:VEVENT
BEGIN:VEVENT
DTSTART;TZID=Europe/Paris:20260922T200000
DTEND;TZID=Europe/Paris:20260922T213000
DTSTAMP:20260419T151537
CREATED:20260415T135707Z
LAST-MODIFIED:20260415T135707Z
UID:2280-1790107200-1790112600@noetheater.de
SUMMARY:35 TONNEN
DESCRIPTION:Ausgezeichnet mit dem Kölner Theaterpreis 2025\nAlle feiern. Die Polizei feiert tonnenschwere Rekordfunde. Das organisierte Verbrechen feiert Gewinne\, die das Bruttoinlandsprodukt ganzer Länder übertreffen. Und Deutschland feiert in den Clubs mit dem Stoff\, aus dem vermeintlich die Träume sind. \n\nVon den Chefetagen großer Konzerne über Fine-Dining-Restaurants bis in die Partyszene der jungen Leute – eins steht fest: Kokain boomt. Und hinterlässt eine Spur der Gewalt. Bombenanschläge und Entführungen mitten in Köln. Schießereien und Folter. Erpressung und Geldwäsche. Was sich wie der Plot eines Mafiafilms anhört\, passiert genau hier und jetzt. Doch wer zahlt den Preis für die Feier?\nDas nö theater entführt das Publikum in die verborgenen Strukturen des globalen Kokainhandels – von den Koka-Plantagen in Südamerika bis auf die Straßen von NRW.\nEin immersives Theaterstück.\n  \nEs spielen: Asta Nechajute\, Felix Höfner\, Lucia Schulz \nRegie: Asim Odobašić \nDramaturgie: Janosch Roloff \nLicht: Chiara Tess Krogull \nAssistenz: Julia Knorst & Anne K Müller
URL:https://noetheater.de/event/35-tonnen-10/
LOCATION:Orangerie Theater im Volksgarten\, Volksgartenstraße 25\, Köln\, 50677\, Germany
CATEGORIES:Orangerie Theater
ATTACH;FMTTYPE=image/jpeg:https://noetheater.de/wp-content/uploads/2024/06/Favorit-2-quer-scaled.jpg
END:VEVENT
BEGIN:VEVENT
DTSTART;TZID=Europe/Paris:20260923T200000
DTEND;TZID=Europe/Paris:20260923T213000
DTSTAMP:20260419T151537
CREATED:20260415T135814Z
LAST-MODIFIED:20260415T135814Z
UID:2282-1790193600-1790199000@noetheater.de
SUMMARY:35 TONNEN
DESCRIPTION:Ausgezeichnet mit dem Kölner Theaterpreis 2025\nAlle feiern. Die Polizei feiert tonnenschwere Rekordfunde. Das organisierte Verbrechen feiert Gewinne\, die das Bruttoinlandsprodukt ganzer Länder übertreffen. Und Deutschland feiert in den Clubs mit dem Stoff\, aus dem vermeintlich die Träume sind. \n\nVon den Chefetagen großer Konzerne über Fine-Dining-Restaurants bis in die Partyszene der jungen Leute – eins steht fest: Kokain boomt. Und hinterlässt eine Spur der Gewalt. Bombenanschläge und Entführungen mitten in Köln. Schießereien und Folter. Erpressung und Geldwäsche. Was sich wie der Plot eines Mafiafilms anhört\, passiert genau hier und jetzt. Doch wer zahlt den Preis für die Feier?\nDas nö theater entführt das Publikum in die verborgenen Strukturen des globalen Kokainhandels – von den Koka-Plantagen in Südamerika bis auf die Straßen von NRW.\nEin immersives Theaterstück.\n  \nEs spielen: Asta Nechajute\, Felix Höfner\, Lucia Schulz \nRegie: Asim Odobašić \nDramaturgie: Janosch Roloff \nLicht: Chiara Tess Krogull \nAssistenz: Julia Knorst & Anne K Müller
URL:https://noetheater.de/event/35-tonnen-11/
LOCATION:Orangerie Theater im Volksgarten\, Volksgartenstraße 25\, Köln\, 50677\, Germany
CATEGORIES:Orangerie Theater
ATTACH;FMTTYPE=image/jpeg:https://noetheater.de/wp-content/uploads/2024/06/Favorit-3-quer-scaled.jpg
END:VEVENT
BEGIN:VEVENT
DTSTART;TZID=Europe/Paris:20260924T200000
DTEND;TZID=Europe/Paris:20260924T213000
DTSTAMP:20260419T151537
CREATED:20260415T135912Z
LAST-MODIFIED:20260415T135912Z
UID:2284-1790280000-1790285400@noetheater.de
SUMMARY:35 TONNEN
DESCRIPTION:Ausgezeichnet mit dem Kölner Theaterpreis 2025\nAlle feiern. Die Polizei feiert tonnenschwere Rekordfunde. Das organisierte Verbrechen feiert Gewinne\, die das Bruttoinlandsprodukt ganzer Länder übertreffen. Und Deutschland feiert in den Clubs mit dem Stoff\, aus dem vermeintlich die Träume sind. \n\nVon den Chefetagen großer Konzerne über Fine-Dining-Restaurants bis in die Partyszene der jungen Leute – eins steht fest: Kokain boomt. Und hinterlässt eine Spur der Gewalt. Bombenanschläge und Entführungen mitten in Köln. Schießereien und Folter. Erpressung und Geldwäsche. Was sich wie der Plot eines Mafiafilms anhört\, passiert genau hier und jetzt. Doch wer zahlt den Preis für die Feier?\nDas nö theater entführt das Publikum in die verborgenen Strukturen des globalen Kokainhandels – von den Koka-Plantagen in Südamerika bis auf die Straßen von NRW.\nEin immersives Theaterstück.\n  \nEs spielen: Asta Nechajute\, Felix Höfner\, Lucia Schulz \nRegie: Asim Odobašić \nDramaturgie: Janosch Roloff \nLicht: Chiara Tess Krogull \nAssistenz: Julia Knorst & Anne K Müller
URL:https://noetheater.de/event/35-tonnen-12/
LOCATION:Orangerie Theater im Volksgarten\, Volksgartenstraße 25\, Köln\, 50677\, Germany
CATEGORIES:Orangerie Theater
ATTACH;FMTTYPE=image/jpeg:https://noetheater.de/wp-content/uploads/2024/06/Favorit-4-quer-scaled.jpg
END:VEVENT
END:VCALENDAR